BEGIN:VCALENDAR
VERSION:2.0
PRODID:-//Evangelische Kirchen in Eschwege - ECPv6.15.20//NONSGML v1.0//EN
CALSCALE:GREGORIAN
METHOD:PUBLISH
X-WR-CALNAME:Evangelische Kirchen in Eschwege
X-ORIGINAL-URL:https://ev-kirche-in-eschwege.de
X-WR-CALDESC:Veranstaltungen für Evangelische Kirchen in Eschwege
REFRESH-INTERVAL;VALUE=DURATION:PT1H
X-Robots-Tag:noindex
X-PUBLISHED-TTL:PT1H
BEGIN:VTIMEZONE
TZID:Europe/Berlin
BEGIN:DAYLIGHT
TZOFFSETFROM:+0100
TZOFFSETTO:+0200
TZNAME:CEST
DTSTART:20250330T010000
END:DAYLIGHT
BEGIN:STANDARD
TZOFFSETFROM:+0200
TZOFFSETTO:+0100
TZNAME:CET
DTSTART:20251026T010000
END:STANDARD
BEGIN:DAYLIGHT
TZOFFSETFROM:+0100
TZOFFSETTO:+0200
TZNAME:CEST
DTSTART:20260329T010000
END:DAYLIGHT
BEGIN:STANDARD
TZOFFSETFROM:+0200
TZOFFSETTO:+0100
TZNAME:CET
DTSTART:20261025T010000
END:STANDARD
BEGIN:DAYLIGHT
TZOFFSETFROM:+0100
TZOFFSETTO:+0200
TZNAME:CEST
DTSTART:20270328T010000
END:DAYLIGHT
BEGIN:STANDARD
TZOFFSETFROM:+0200
TZOFFSETTO:+0100
TZNAME:CET
DTSTART:20271031T010000
END:STANDARD
END:VTIMEZONE
BEGIN:VEVENT
DTSTART;TZID=Europe/Berlin:20260419T100000
DTEND;TZID=Europe/Berlin:20260419T110000
DTSTAMP:20260421T115123
CREATED:20260311T103316Z
LAST-MODIFIED:20260311T140506Z
UID:10002124-1776592800-1776596400@ev-kirche-in-eschwege.de
SUMMARY:Auferstehungskirche Festgottesdienst zur Konfirmation
DESCRIPTION:Konfirmiert werden die Konfirmandinnen und Konfirmanden aus dem Bereich Heuberg. \nPfr. Meister
URL:https://ev-kirche-in-eschwege.de/veranstaltungen/festgottesdienst-zur-konfirmation/
LOCATION:Auferstehungskirche\, Kastanienweg 8\, Eschwege\, 37218\, Deutschland
CATEGORIES:Gottesdienste
ATTACH;FMTTYPE=image/jpeg:https://ev-kirche-in-eschwege.de/wp-content/uploads/2026/03/Ak_Bild_Homepage_Quadrat-scaled.jpg
END:VEVENT
BEGIN:VEVENT
DTSTART;TZID=Europe/Berlin:20260403T100000
DTEND;TZID=Europe/Berlin:20260403T110000
DTSTAMP:20260421T115123
CREATED:20260311T094354Z
LAST-MODIFIED:20260311T141022Z
UID:10002114-1775210400-1775214000@ev-kirche-in-eschwege.de
SUMMARY:Auferstehungskirche Karfreitag - Predigtgottesdienst
DESCRIPTION:Gemeinsamer Gottesdienst mit Pfr. Meister.
URL:https://ev-kirche-in-eschwege.de/veranstaltungen/karfreitag-predigtgottesdienst/
LOCATION:Auferstehungskirche\, Kastanienweg 8\, Eschwege\, 37218\, Deutschland
CATEGORIES:Gottesdienste
END:VEVENT
BEGIN:VEVENT
DTSTART;TZID=Europe/Berlin:20260402T180000
DTEND;TZID=Europe/Berlin:20260402T190000
DTSTAMP:20260421T115123
CREATED:20260311T093837Z
LAST-MODIFIED:20260311T141052Z
UID:10002113-1775152800-1775156400@ev-kirche-in-eschwege.de
SUMMARY:Auferstehungskirche Gründonnerstag - Taizé-Gesänge und Abendmahl
DESCRIPTION:Gesänge aus Taizé. Meditative Texte. Abendmahl. Gemeinschaft ohne Worte. \n 
URL:https://ev-kirche-in-eschwege.de/veranstaltungen/gruendonnerstag-taize-gesaenge-und-abendmahl/
LOCATION:Auferstehungskirche\, Kastanienweg 8\, Eschwege\, 37218\, Deutschland
CATEGORIES:Gottesdienste
ATTACH;FMTTYPE=image/png:https://ev-kirche-in-eschwege.de/wp-content/uploads/2026/03/Taize.png
END:VEVENT
BEGIN:VEVENT
DTSTART;TZID=Europe/Berlin:20260329T100000
DTEND;TZID=Europe/Berlin:20260329T110000
DTSTAMP:20260421T115123
CREATED:20260311T090036Z
LAST-MODIFIED:20260311T141332Z
UID:10002106-1774778400-1774782000@ev-kirche-in-eschwege.de
SUMMARY:Auferstehungskirche Gottesdienst am Sonntag Palmarum
DESCRIPTION:Mit Pfarrerin Rudolph
URL:https://ev-kirche-in-eschwege.de/veranstaltungen/gottesdienst-am-sonntag-palmarum-2/
LOCATION:Auferstehungskirche\, Kastanienweg 8\, Eschwege\, 37218\, Deutschland
CATEGORIES:Gottesdienste
ATTACH;FMTTYPE=image/jpeg:https://ev-kirche-in-eschwege.de/wp-content/uploads/2026/03/Ak_Bild_Homepage_Quadrat-scaled.jpg
END:VEVENT
BEGIN:VEVENT
DTSTART;TZID=Europe/Berlin:20260315T100000
DTEND;TZID=Europe/Berlin:20260315T110000
DTSTAMP:20260421T115123
CREATED:20260311T081554Z
LAST-MODIFIED:20260311T141619Z
UID:10002100-1773568800-1773572400@ev-kirche-in-eschwege.de
SUMMARY:Auferstehungskirche Gottesdienst am Sonntag Lätare
DESCRIPTION:Mit Pfr. Meister
URL:https://ev-kirche-in-eschwege.de/veranstaltungen/gottesdienst-am-sonntag-laetare/
LOCATION:Auferstehungskirche\, Kastanienweg 8\, Eschwege\, 37218\, Deutschland
CATEGORIES:Gottesdienste
ATTACH;FMTTYPE=image/jpeg:https://ev-kirche-in-eschwege.de/wp-content/uploads/2026/03/Ak_Bild_Homepage_Quadrat-scaled.jpg
END:VEVENT
BEGIN:VEVENT
DTSTART;TZID=Europe/Berlin:20260215T100000
DTEND;TZID=Europe/Berlin:20260215T110000
DTSTAMP:20260421T115123
CREATED:20251126T153039Z
LAST-MODIFIED:20251126T153525Z
UID:10002094-1771149600-1771153200@ev-kirche-in-eschwege.de
SUMMARY:Auferstehungskirche - Carne-Vale-Gottesdienst
DESCRIPTION:Feiern Sie mit Pfarrer Meister den Carne-Vale-Gottesdienst heute um 10:00 Uhr in der Auferstehungskirche.
URL:https://ev-kirche-in-eschwege.de/veranstaltungen/kreuzkirche-gottesdienst-mit-abendmahl-2/
LOCATION:Auferstehungskirche\, Kastanienweg 8\, Eschwege\, 37218\, Deutschland
CATEGORIES:Gottesdienste
END:VEVENT
BEGIN:VEVENT
DTSTART;TZID=Europe/Berlin:20260208T100000
DTEND;TZID=Europe/Berlin:20260208T110000
DTSTAMP:20260421T115123
CREATED:20251126T153141Z
LAST-MODIFIED:20251126T153141Z
UID:10002095-1770544800-1770548400@ev-kirche-in-eschwege.de
SUMMARY:Auferstehungskirche - Gottesdienst
DESCRIPTION:Besuchen Sie den Gottesdienst mit Pfarrer Meister heute um 10:00 Uhr in der Auferstehungskirche .
URL:https://ev-kirche-in-eschwege.de/veranstaltungen/auferstehungskirche-gottesdienst-8/
LOCATION:Auferstehungskirche\, Kastanienweg 8\, Eschwege\, 37218\, Deutschland
CATEGORIES:Gottesdienste
END:VEVENT
BEGIN:VEVENT
DTSTART;TZID=Europe/Berlin:20260125T100000
DTEND;TZID=Europe/Berlin:20260125T110000
DTSTAMP:20260421T115123
CREATED:20251126T152200Z
LAST-MODIFIED:20251126T152200Z
UID:10002090-1769335200-1769338800@ev-kirche-in-eschwege.de
SUMMARY:Auferstehungskirche - Gottesdienst mit Abendmahl
DESCRIPTION:Feiern Sie mit Pfarrer Meister diesen Gottesdienst mit Abendmahl heute um 10:00 Uhr in der Auferstehungskirche.
URL:https://ev-kirche-in-eschwege.de/veranstaltungen/auferstehungskirche-gottesdienst-mit-abendmahl/
LOCATION:Auferstehungskirche\, Kastanienweg 8\, Eschwege\, 37218\, Deutschland
CATEGORIES:Gottesdienste
END:VEVENT
BEGIN:VEVENT
DTSTART;TZID=Europe/Berlin:20260124T180000
DTEND;TZID=Europe/Berlin:20260124T190000
DTSTAMP:20260421T115123
CREATED:20251125T140526Z
LAST-MODIFIED:20251125T140526Z
UID:10002042-1769277600-1769281200@ev-kirche-in-eschwege.de
SUMMARY:Auferstehungskirche - Interkultureller Gottesdienst
DESCRIPTION:Gemeinsam Gottesdienst feiern mit Liedern\, Gebeten und Bräuchen aus verschiedenen Kulturen und Traditionen.\nLassen Sie sich von der Vielfalt christlicher Weihnachtstraditionen berühren und erleben Sie\, wie Glaube Menschen weltweit verbindet.\nEin kultureller Gottesdienst für alle Generationen und anschließendem Mitbring-Buffet – offen\, lebendig und voller Hoffnung.\nFeiern und schlemmen Sie mit.\nGottesdienstbeginn ist um 18:00 Uhr in der Auferstehungskirche.\nWeitere Details werden im Flyer veröffentlicht.
URL:https://ev-kirche-in-eschwege.de/veranstaltungen/auferstehungskirche-interkultureller-gottesdienst/
LOCATION:Auferstehungskirche\, Kastanienweg 8\, Eschwege\, 37218\, Deutschland
CATEGORIES:Gottesdienste
END:VEVENT
END:VCALENDAR