BEGIN:VCALENDAR
VERSION:2.0
PRODID:-//Evangelische Kirchen in Eschwege - ECPv6.15.20//NONSGML v1.0//EN
CALSCALE:GREGORIAN
METHOD:PUBLISH
X-WR-CALNAME:Evangelische Kirchen in Eschwege
X-ORIGINAL-URL:https://ev-kirche-in-eschwege.de
X-WR-CALDESC:Veranstaltungen für Evangelische Kirchen in Eschwege
REFRESH-INTERVAL;VALUE=DURATION:PT1H
X-Robots-Tag:noindex
X-PUBLISHED-TTL:PT1H
BEGIN:VTIMEZONE
TZID:Europe/Berlin
BEGIN:DAYLIGHT
TZOFFSETFROM:+0100
TZOFFSETTO:+0200
TZNAME:CEST
DTSTART:20250330T010000
END:DAYLIGHT
BEGIN:STANDARD
TZOFFSETFROM:+0200
TZOFFSETTO:+0100
TZNAME:CET
DTSTART:20251026T010000
END:STANDARD
BEGIN:DAYLIGHT
TZOFFSETFROM:+0100
TZOFFSETTO:+0200
TZNAME:CEST
DTSTART:20260329T010000
END:DAYLIGHT
BEGIN:STANDARD
TZOFFSETFROM:+0200
TZOFFSETTO:+0100
TZNAME:CET
DTSTART:20261025T010000
END:STANDARD
BEGIN:DAYLIGHT
TZOFFSETFROM:+0100
TZOFFSETTO:+0200
TZNAME:CEST
DTSTART:20270328T010000
END:DAYLIGHT
BEGIN:STANDARD
TZOFFSETFROM:+0200
TZOFFSETTO:+0100
TZNAME:CET
DTSTART:20271031T010000
END:STANDARD
END:VTIMEZONE
BEGIN:VEVENT
DTSTART;TZID=Europe/Berlin:20260401T193000
DTEND;TZID=Europe/Berlin:20260401T200000
DTSTAMP:20260419T220856
CREATED:20260311T091054Z
LAST-MODIFIED:20260311T091141Z
UID:10002109-1775071800-1775073600@ev-kirche-in-eschwege.de
SUMMARY:Passionsandacht - Zeit der Stille
DESCRIPTION:
URL:https://ev-kirche-in-eschwege.de/veranstaltungen/passionsandacht-zeit-der-stille-3/
LOCATION:Kreuzkirche\, Rudolf-Clermont-Weg 1\, Eschwege\, 37269\, Deutschland
CATEGORIES:Gemeindeveranstaltungen
ATTACH;FMTTYPE=image/png:https://ev-kirche-in-eschwege.de/wp-content/uploads/2026/03/Kreuz-Ausschnitt.png
END:VEVENT
END:VCALENDAR