BEGIN:VCALENDAR
VERSION:2.0
PRODID:-//Evangelische Kirchen in Eschwege - ECPv6.15.20//NONSGML v1.0//EN
CALSCALE:GREGORIAN
METHOD:PUBLISH
X-ORIGINAL-URL:https://ev-kirche-in-eschwege.de
X-WR-CALDESC:Veranstaltungen für Evangelische Kirchen in Eschwege
REFRESH-INTERVAL;VALUE=DURATION:PT1H
X-Robots-Tag:noindex
X-PUBLISHED-TTL:PT1H
BEGIN:VTIMEZONE
TZID:Europe/Berlin
BEGIN:DAYLIGHT
TZOFFSETFROM:+0100
TZOFFSETTO:+0200
TZNAME:CEST
DTSTART:20250330T010000
END:DAYLIGHT
BEGIN:STANDARD
TZOFFSETFROM:+0200
TZOFFSETTO:+0100
TZNAME:CET
DTSTART:20251026T010000
END:STANDARD
BEGIN:DAYLIGHT
TZOFFSETFROM:+0100
TZOFFSETTO:+0200
TZNAME:CEST
DTSTART:20260329T010000
END:DAYLIGHT
BEGIN:STANDARD
TZOFFSETFROM:+0200
TZOFFSETTO:+0100
TZNAME:CET
DTSTART:20261025T010000
END:STANDARD
BEGIN:DAYLIGHT
TZOFFSETFROM:+0100
TZOFFSETTO:+0200
TZNAME:CEST
DTSTART:20270328T010000
END:DAYLIGHT
BEGIN:STANDARD
TZOFFSETFROM:+0200
TZOFFSETTO:+0100
TZNAME:CET
DTSTART:20271031T010000
END:STANDARD
END:VTIMEZONE
BEGIN:VEVENT
DTSTART;TZID=Europe/Berlin:20260322T100000
DTEND;TZID=Europe/Berlin:20260322T110000
DTSTAMP:20260419T221054
CREATED:20260311T081844Z
LAST-MODIFIED:20260311T142147Z
UID:10002101-1774173600-1774177200@ev-kirche-in-eschwege.de
SUMMARY:Neustädter Kirche Gottesdienst am Sonntag Judika
DESCRIPTION:Vertretung ist noch offen\, da Pfarrerin Repp-Jost im Krankenstand ist.
URL:https://ev-kirche-in-eschwege.de/veranstaltungen/gottesdienst-am-sonntag-judika/
LOCATION:Neustädter Kirche\, Kirchplatz 7\, Eschwege\, 37269\, Deutschland
CATEGORIES:Gottesdienste
ATTACH;FMTTYPE=image/jpeg:https://ev-kirche-in-eschwege.de/wp-content/uploads/2026/03/k-DSCF1791.jpg
END:VEVENT
BEGIN:VEVENT
DTSTART;TZID=Europe/Berlin:20260322T100000
DTEND;TZID=Europe/Berlin:20260322T110000
DTSTAMP:20260419T221054
CREATED:20260311T084343Z
LAST-MODIFIED:20260311T141730Z
UID:10002102-1774173600-1774177200@ev-kirche-in-eschwege.de
SUMMARY:Kreuzkirche Gottesdienst am Sonntag Judika
DESCRIPTION:Mit Pfarrerehepaar Dühr/Feller-Dühr
URL:https://ev-kirche-in-eschwege.de/veranstaltungen/gottesdienst-am-sonntag-judika-2/
LOCATION:Kreuzkirche\, Rudolf-Clermont-Weg 1\, Eschwege\, 37269\, Deutschland
CATEGORIES:Gottesdienste
ATTACH;FMTTYPE=image/jpeg:https://ev-kirche-in-eschwege.de/wp-content/uploads/2026/03/X-1-scaled.jpg
END:VEVENT
END:VCALENDAR