BEGIN:VCALENDAR
VERSION:2.0
PRODID:-//Evangelische Kirchen in Eschwege - ECPv6.15.20//NONSGML v1.0//EN
CALSCALE:GREGORIAN
METHOD:PUBLISH
X-ORIGINAL-URL:https://ev-kirche-in-eschwege.de
X-WR-CALDESC:Veranstaltungen für Evangelische Kirchen in Eschwege
REFRESH-INTERVAL;VALUE=DURATION:PT1H
X-Robots-Tag:noindex
X-PUBLISHED-TTL:PT1H
BEGIN:VTIMEZONE
TZID:Europe/Berlin
BEGIN:DAYLIGHT
TZOFFSETFROM:+0100
TZOFFSETTO:+0200
TZNAME:CEST
DTSTART:20250330T010000
END:DAYLIGHT
BEGIN:STANDARD
TZOFFSETFROM:+0200
TZOFFSETTO:+0100
TZNAME:CET
DTSTART:20251026T010000
END:STANDARD
BEGIN:DAYLIGHT
TZOFFSETFROM:+0100
TZOFFSETTO:+0200
TZNAME:CEST
DTSTART:20260329T010000
END:DAYLIGHT
BEGIN:STANDARD
TZOFFSETFROM:+0200
TZOFFSETTO:+0100
TZNAME:CET
DTSTART:20261025T010000
END:STANDARD
BEGIN:DAYLIGHT
TZOFFSETFROM:+0100
TZOFFSETTO:+0200
TZNAME:CEST
DTSTART:20270328T010000
END:DAYLIGHT
BEGIN:STANDARD
TZOFFSETFROM:+0200
TZOFFSETTO:+0100
TZNAME:CET
DTSTART:20271031T010000
END:STANDARD
END:VTIMEZONE
BEGIN:VEVENT
DTSTART;TZID=Europe/Berlin:20260315T100000
DTEND;TZID=Europe/Berlin:20260315T110000
DTSTAMP:20260420T032028
CREATED:20260311T081234Z
LAST-MODIFIED:20260311T141536Z
UID:10002099-1773568800-1773572400@ev-kirche-in-eschwege.de
SUMMARY:Marktkirche Gottesdienst mit Abendmahl am Sonntag Lätare
DESCRIPTION:Mit Pfarrerin Rudolph
URL:https://ev-kirche-in-eschwege.de/veranstaltungen/gottesdienst-mit-abendmahl/
LOCATION:Marktkirche\, Kirchgasse 3\, Eschwege\, 37218\, Deutschland
CATEGORIES:Gottesdienste
ATTACH;FMTTYPE=image/jpeg:https://ev-kirche-in-eschwege.de/wp-content/uploads/2026/03/12.1.-Schuetzenkelch-scaled.jpg
END:VEVENT
BEGIN:VEVENT
DTSTART;TZID=Europe/Berlin:20260315T100000
DTEND;TZID=Europe/Berlin:20260315T110000
DTSTAMP:20260420T032028
CREATED:20260311T081554Z
LAST-MODIFIED:20260311T141619Z
UID:10002100-1773568800-1773572400@ev-kirche-in-eschwege.de
SUMMARY:Auferstehungskirche Gottesdienst am Sonntag Lätare
DESCRIPTION:Mit Pfr. Meister
URL:https://ev-kirche-in-eschwege.de/veranstaltungen/gottesdienst-am-sonntag-laetare/
LOCATION:Auferstehungskirche\, Kastanienweg 8\, Eschwege\, 37218\, Deutschland
CATEGORIES:Gottesdienste
ATTACH;FMTTYPE=image/jpeg:https://ev-kirche-in-eschwege.de/wp-content/uploads/2026/03/Ak_Bild_Homepage_Quadrat-scaled.jpg
END:VEVENT
END:VCALENDAR